{
 "currentVersion": 11.5,
 "serviceDescription": "Aquifer_Recharge_Near_Surface_IN is a raster data layer that displays the results of a regression analysis to determine the estimated rate of diffuse groundwater recharge to the water table in shallow aquifers in Indiana based on numerous landscape-level variables as predictors. The goal of this project was to use an objective, reproducible methodology to estimate groundwater recharge rates in both glaciated and driftless environments. This groundwater-recharge raster layer was developed by combining a multiple regression analysis of groundwater recharge with characteristics of near-surface geologic materials. The groundwater recharge data used in the multiple regression analysis was derived from calculations of groundwater baseflow and surface-water runoff for 279 streams in Indiana. Estimates of groundwater base flow were determined using hydrograph separation analysis (Institute of Hydrology, 1980) determined using a local-minimums approach with a recession slope test, and were converted to recharge by multiplying by using estimates of runoff following Wolock (2003). The baseflow index (BFI) provides the proportion of runoff that is assumed to be groundwater contribution, so recharge was estimated as BFI * interpolated statewide runoff (not runoff per basin). The average annual rate of groundwater recharge (in/year) was used as the dependent variable in a multiple regression analysis using ordinary least squares with several landscape and morphometric independent variables representing geologic, terrain, climate, and hydrogeologic characteristics. The regression model developed for Indiana had a global R2 value of 0.50, and the most influential variables at the 95% confidence level were:\n\n- Cumulative percent area of upstream impervious surfaces\n- Surface clay thickness\n- Percent of clay in soil\n- Average annual air temperature\n- Presence/absence of unconsolidated aquifers\n- Slope of ground surface\n- Cumulative percent area of upstream water bodies\n- Sand composition of water well boreholes\n- Cumulative percent area of upstream medium-height vegetation\n- Hydrologic group classification of soil (A,B,C,D - SSURGO)\n\nThe regression model was used as a mapping tool to spatially distribute estimates of recharge across Indiana, incorporating details of the important landscape variables.",
 "serviceItemId": "6179f294ac214df2a580e5bcc838cdbe",
 "name": "Aquifer_Recharge_Near_Surface_IN",
 "description": "",
 "extent": {
  "xmin": 407050,
  "ymin": 4181525,
  "xmax": 691950,
  "ymax": 4625325,
  "spatialReference": {
   "wkid": 26916,
   "latestWkid": 26916
  }
 },
 "initialExtent": {
  "xmin": 407050,
  "ymin": 4181525,
  "xmax": 691950,
  "ymax": 4625325,
  "spatialReference": {
   "wkid": 26916,
   "latestWkid": 26916
  }
 },
 "fullExtent": {
  "xmin": 407050,
  "ymin": 4181525,
  "xmax": 691950,
  "ymax": 4625325,
  "spatialReference": {
   "wkid": 26916,
   "latestWkid": 26916
  }
 },
 "sortableFields": "",
 "bandCount": 1,
 "pixelType": "F32",
 "minValues": [
  0
 ],
 "maxValues": [
  14
 ],
 "meanValues": [
  5.253305833827145
 ],
 "stdvValues": [
  1.7839876182180003
 ],
 "serviceProperties": "Center<\/MosaicMethod>First<\/MosaicOperator>true<\/SortAscending><\/LockImageID><\/TileOrderField>0<\/TileOrderBase>0.000000<\/AvgImageSpacingX>0.000000<\/AvgImageSpacingY>0.0<\/ViewPointX>0.0<\/ViewPointY>0.0<\/ViewPointDefShiftX>0.0<\/ViewPointDefShiftY>None<\/CompressionMethod>75<\/CompressionQuality>0.010000<\/CompressionTolerance>Bilinear<\/SamplingMethod><\/ImageServiceProperties><\/ImageServer>",
 "allowedFields": "",
 "hasMultidimensions": false,
 "pixelSizeX": 100,
 "pixelSizeY": 100,
 "meanPixelSize": 100,
 "datasetFormat": "SDR",
 "uncompressedSize": 50575448,
 "blockWidth": 128,
 "blockHeight": 128,
 "compressionType": "LZ77",
 "bandNames": [
  "Band_1"
 ],
 "allowCopy": true,
 "allowAnalysis": true,
 "itemAccess": false,
 "inspectionCapabilities": "",
 "minPixelSize": 0,
 "maxPixelSize": 0,
 "copyrightText": "",
 "serviceDataType": "esriImageServiceDataTypeGeneric",
 "serviceSourceType": "esriImageServiceSourceTypeDataset",
 "objectIdField": "",
 "fields": [],
 "capabilities": "Image,Metadata,Mensuration",
 "defaultMosaicMethod": "Center",
 "allowedMosaicMethods": "",
 "sortField": "",
 "sortValue": null,
 "sortAscending": true,
 "mosaicOperator": "First",
 "defaultCompressionQuality": 75,
 "defaultResamplingMethod": "Bilinear",
 "maxImageHeight": 4100,
 "maxImageWidth": 15000,
 "allowRasterFunction": true,
 "rasterFunctionInfos": [
  {
   "name": "None",
   "description": "",
   "help": ""
  }
 ],
 "rasterTypeInfos": [
  {
   "name": "Raster Dataset",
   "description": "Supports all ArcGIS Raster Datasets",
   "help": ""
  }
 ],
 "mensurationCapabilities": "Basic",
 "hasHistograms": true,
 "hasColormap": false,
 "hasRasterAttributeTable": false,
 "minScale": 0,
 "maxScale": 0,
 "exportTilesAllowed": false,
 "supportsStatistics": false,
 "supportsAdvancedQueries": false,
 "editFieldsInfo": null,
 "ownershipBasedAccessControlForRasters": null,
 "allowComputeTiePoints": false,
 "useStandardizedQueries": true,
 "advancedQueryCapabilities": {
  "useStandardizedQueries": true,
  "supportsStatistics": false,
  "supportsOrderBy": false,
  "supportsDistinct": false,
  "supportsPagination": false
 },
 "spatialReference": {
  "wkid": 26916,
  "latestWkid": 26916
 }
}
