View In:
ArcGIS JavaScript
ArcGIS Online Map Viewer
ArcGIS Earth
Service Description: AllenCounty_CLAY_0_25FT
Name: AllenCounty_CLAY_0_25FT
Description:
Single Fused Map Cache: false
Extent:
XMin: 639353.9939752
YMin: 4530881.3822225
XMax: 685013.9939752
YMax: 4571171.3822225
Spatial Reference: 26916
(26916)
LatestVCSWkid(0)
Initial Extent:
XMin: 639353.9939752
YMin: 4530881.3822225
XMax: 685013.9939752
YMax: 4571171.3822225
Spatial Reference: 26916
(26916)
LatestVCSWkid(0)
Full Extent:
XMin: 639353.9939752
YMin: 4530881.3822225
XMax: 685013.9939752
YMax: 4571171.3822225
Spatial Reference: 26916
(26916)
LatestVCSWkid(0)
Pixel Size X: 30.0
Pixel Size Y: 30.0
Band Count: 1
Pixel Type: F32
RasterFunction Infos: {"rasterFunctionInfos": [{
"name": "None",
"description": "",
"help": ""
}]}
Mensuration Capabilities: Basic
Inspection Capabilities:
Has Histograms: true
Has Colormap: false
Has Multi Dimensions : false
Rendering Rule:
Min Scale: 0
Max Scale: 0
Copyright Text:
Service Data Type: esriImageServiceDataTypeGeneric
Min Values: 0.005011021625250578
Max Values: 25
Mean Values: 21.887137064042932
Standard Deviation Values: 3.4311356292080903
Object ID Field:
Fields:
None
Default Mosaic Method: Center
Allowed Mosaic Methods:
SortField:
SortValue: null
Mosaic Operator: First
Default Compression Quality: 75
Default Resampling Method: Bilinear
Max Record Count: null
Max Image Height: 4100
Max Image Width: 15000
Max Download Image Count: null
Max Mosaic Image Count: null
Allow Raster Function: true
Allow Copy: true
Allow Analysis: true
Allow Compute TiePoints: false
Supports Statistics: false
Supports Advanced Queries: false
Use StandardizedQueries: true
Raster Type Infos:
Name: Raster Dataset
Description: Supports all ArcGIS Raster Datasets
Help:
Has Raster Attribute Table: false
Edit Fields Info: null
Ownership Based AccessControl For Rasters: null
Child Resources:
Info
Histograms
Statistics
Key Properties
Legend
Raster Function Infos
Supported Operations:
Export Image
Identify
Measure
Compute Histograms
Compute Statistics Histograms
Get Samples
Compute Class Statistics
Query Boundary
Compute Pixel Location
Compute Angles
Validate
Project