View In:
ArcGIS JavaScript
ArcGIS Online Map Viewer
ArcGIS Earth
Service Description: Unconsolidated_Thickness_DEM_100m_IGS
Name: Unconsolidated_Thickness_DEM_100m_IGS
Description:
Single Fused Map Cache: false
Extent:
XMin: 402684.78218730615
YMin: 4179943.958878981
XMax: 693984.7821873061
YMax: 4626143.958878981
Spatial Reference: 26916
(26916)
LatestVCSWkid(0)
Initial Extent:
XMin: 402684.78218730615
YMin: 4179943.958878981
XMax: 693984.7821873061
YMax: 4626143.958878981
Spatial Reference: 26916
(26916)
LatestVCSWkid(0)
Full Extent:
XMin: 402684.78218730615
YMin: 4179943.958878981
XMax: 693984.7821873061
YMax: 4626143.958878981
Spatial Reference: 26916
(26916)
LatestVCSWkid(0)
Pixel Size X: 99.99999999999999
Pixel Size Y: 100.0
Band Count: 1
Pixel Type: F32
RasterFunction Infos: {"rasterFunctionInfos": [{
"name": "None",
"description": "",
"help": ""
}]}
Mensuration Capabilities: Basic
Inspection Capabilities:
Has Histograms: true
Has Colormap: false
Has Multi Dimensions : false
Rendering Rule:
Min Scale: 0
Max Scale: 0
Copyright Text:
Service Data Type: esriImageServiceDataTypeGeneric
Min Values: 0
Max Values: 539.251220703125
Mean Values: 103.66523733357165
Standard Deviation Values: 97.63257621843017
Object ID Field:
Fields:
None
Default Mosaic Method: Center
Allowed Mosaic Methods:
SortField:
SortValue: null
Mosaic Operator: First
Default Compression Quality: 75
Default Resampling Method: Bilinear
Max Record Count: null
Max Image Height: 4100
Max Image Width: 15000
Max Download Image Count: null
Max Mosaic Image Count: null
Allow Raster Function: true
Allow Copy: true
Allow Analysis: true
Allow Compute TiePoints: false
Supports Statistics: false
Supports Advanced Queries: false
Use StandardizedQueries: true
Raster Type Infos:
Name: Raster Dataset
Description: Supports all ArcGIS Raster Datasets
Help:
Has Raster Attribute Table: false
Edit Fields Info: null
Ownership Based AccessControl For Rasters: null
Child Resources:
Info
Histograms
Statistics
Key Properties
Legend
Raster Function Infos
Supported Operations:
Export Image
Identify
Measure
Compute Histograms
Compute Statistics Histograms
Get Samples
Compute Class Statistics
Query Boundary
Compute Pixel Location
Compute Angles
Validate
Project