View In:
ArcGIS JavaScript
ArcGIS Online Map Viewer
ArcGIS Earth
Service Description: Aquifer_Recharge_Near_Surface_IN is a raster data layer that displays the results of a regression analysis to determine the estimated rate of diffuse groundwater recharge to the water table in shallow aquifers in Indiana based on numerous landscape-level variables as predictors. The goal of this project was to use an objective, reproducible methodology to estimate groundwater recharge rates in both glaciated and driftless environments. This groundwater-recharge raster layer was developed by combining a multiple regression analysis of groundwater recharge with characteristics of near-surface geologic materials. The groundwater recharge data used in the multiple regression analysis was derived from calculations of groundwater baseflow and surface-water runoff for 279 streams in Indiana. Estimates of groundwater base flow were determined using hydrograph separation analysis (Institute of Hydrology, 1980) determined using a local-minimums approach with a recession slope test, and were converted to recharge by multiplying by using estimates of runoff following Wolock (2003). The baseflow index (BFI) provides the proportion of runoff that is assumed to be groundwater contribution, so recharge was estimated as BFI * interpolated statewide runoff (not runoff per basin). The average annual rate of groundwater recharge (in/year) was used as the dependent variable in a multiple regression analysis using ordinary least squares with several landscape and morphometric independent variables representing geologic, terrain, climate, and hydrogeologic characteristics. The regression model developed for Indiana had a global R2 value of 0.50, and the most influential variables at the 95% confidence level were:
- Cumulative percent area of upstream impervious surfaces
- Surface clay thickness
- Percent of clay in soil
- Average annual air temperature
- Presence/absence of unconsolidated aquifers
- Slope of ground surface
- Cumulative percent area of upstream water bodies
- Sand composition of water well boreholes
- Cumulative percent area of upstream medium-height vegetation
- Hydrologic group classification of soil (A,B,C,D - SSURGO)
The regression model was used as a mapping tool to spatially distribute estimates of recharge across Indiana, incorporating details of the important landscape variables.
Name: Aquifer_Recharge_Near_Surface_IN
Description:
Single Fused Map Cache: false
Extent:
XMin: 407050.0
YMin: 4181525.0
XMax: 691950.0
YMax: 4625325.0
Spatial Reference: 26916
(26916)
LatestVCSWkid(0)
Initial Extent:
XMin: 407050.0
YMin: 4181525.0
XMax: 691950.0
YMax: 4625325.0
Spatial Reference: 26916
(26916)
LatestVCSWkid(0)
Full Extent:
XMin: 407050.0
YMin: 4181525.0
XMax: 691950.0
YMax: 4625325.0
Spatial Reference: 26916
(26916)
LatestVCSWkid(0)
Pixel Size X: 100.0
Pixel Size Y: 100.0
Band Count: 1
Pixel Type: F32
RasterFunction Infos: {"rasterFunctionInfos": [{
"name": "None",
"description": "",
"help": ""
}]}
Mensuration Capabilities: Basic
Inspection Capabilities:
Has Histograms: true
Has Colormap: false
Has Multi Dimensions : false
Rendering Rule:
Min Scale: 0
Max Scale: 0
Copyright Text:
Service Data Type: esriImageServiceDataTypeGeneric
Min Values: 0
Max Values: 14
Mean Values: 5.253305833827145
Standard Deviation Values: 1.7839876182180003
Object ID Field:
Fields:
None
Default Mosaic Method: Center
Allowed Mosaic Methods:
SortField:
SortValue: null
Mosaic Operator: First
Default Compression Quality: 75
Default Resampling Method: Bilinear
Max Record Count: null
Max Image Height: 4100
Max Image Width: 15000
Max Download Image Count: null
Max Mosaic Image Count: null
Allow Raster Function: true
Allow Copy: true
Allow Analysis: true
Allow Compute TiePoints: false
Supports Statistics: false
Supports Advanced Queries: false
Use StandardizedQueries: true
Raster Type Infos:
Name: Raster Dataset
Description: Supports all ArcGIS Raster Datasets
Help:
Has Raster Attribute Table: false
Edit Fields Info: null
Ownership Based AccessControl For Rasters: null
Child Resources:
Info
Histograms
Statistics
Key Properties
Legend
Raster Function Infos
Supported Operations:
Export Image
Identify
Measure
Compute Histograms
Compute Statistics Histograms
Get Samples
Compute Class Statistics
Query Boundary
Compute Pixel Location
Compute Angles
Validate
Project